BEGIN:VCALENDAR
VERSION:2.0
PRODID:-//מועדון החמש - ECPv6.15.20//NONSGML v1.0//EN
CALSCALE:GREGORIAN
METHOD:PUBLISH
X-ORIGINAL-URL:https://5club.org.il
X-WR-CALDESC:Events for מועדון החמש
REFRESH-INTERVAL;VALUE=DURATION:PT1H
X-Robots-Tag:noindex
X-PUBLISHED-TTL:PT1H
BEGIN:VTIMEZONE
TZID:Asia/Jerusalem
BEGIN:DAYLIGHT
TZOFFSETFROM:+0200
TZOFFSETTO:+0300
TZNAME:IDT
DTSTART:20240329T000000
END:DAYLIGHT
BEGIN:STANDARD
TZOFFSETFROM:+0300
TZOFFSETTO:+0200
TZNAME:IST
DTSTART:20241026T230000
END:STANDARD
BEGIN:DAYLIGHT
TZOFFSETFROM:+0200
TZOFFSETTO:+0300
TZNAME:IDT
DTSTART:20250328T000000
END:DAYLIGHT
BEGIN:STANDARD
TZOFFSETFROM:+0300
TZOFFSETTO:+0200
TZNAME:IST
DTSTART:20251025T230000
END:STANDARD
BEGIN:DAYLIGHT
TZOFFSETFROM:+0200
TZOFFSETTO:+0300
TZNAME:IDT
DTSTART:20260327T000000
END:DAYLIGHT
BEGIN:STANDARD
TZOFFSETFROM:+0300
TZOFFSETTO:+0200
TZNAME:IST
DTSTART:20261024T230000
END:STANDARD
END:VTIMEZONE
BEGIN:VEVENT
DTSTART;VALUE=DATE:20250508
DTEND;VALUE=DATE:20250511
DTSTAMP:20260426T072504
CREATED:20250318T110530Z
LAST-MODIFIED:20250318T110530Z
UID:27191-1746662400-1746921599@5club.org.il
SUMMARY:ראלי מועדון החמש 08-10/5/25
DESCRIPTION:הראלי המסורתי של מועדון החמש יתקיים בין התאריכים 08-10/5/25. \nהלינה הינה במלון חוף גיא. \nפרטים נוספים במשרד המועדון!
URL:https://5club.org.il/event/%d7%a8%d7%90%d7%9c%d7%99-%d7%9e%d7%95%d7%a2%d7%93%d7%95%d7%9f-%d7%94%d7%97%d7%9e%d7%a9-08-10-5-25/
END:VEVENT
END:VCALENDAR