BEGIN:VCALENDAR
VERSION:2.0
PRODID:-//מועדון החמש - ECPv6.15.20//NONSGML v1.0//EN
CALSCALE:GREGORIAN
METHOD:PUBLISH
X-ORIGINAL-URL:https://5club.org.il
X-WR-CALDESC:Events for מועדון החמש
REFRESH-INTERVAL;VALUE=DURATION:PT1H
X-Robots-Tag:noindex
X-PUBLISHED-TTL:PT1H
BEGIN:VTIMEZONE
TZID:Asia/Jerusalem
BEGIN:DAYLIGHT
TZOFFSETFROM:+0200
TZOFFSETTO:+0300
TZNAME:IDT
DTSTART:20240329T000000
END:DAYLIGHT
BEGIN:STANDARD
TZOFFSETFROM:+0300
TZOFFSETTO:+0200
TZNAME:IST
DTSTART:20241026T230000
END:STANDARD
BEGIN:DAYLIGHT
TZOFFSETFROM:+0200
TZOFFSETTO:+0300
TZNAME:IDT
DTSTART:20250328T000000
END:DAYLIGHT
BEGIN:STANDARD
TZOFFSETFROM:+0300
TZOFFSETTO:+0200
TZNAME:IST
DTSTART:20251025T230000
END:STANDARD
BEGIN:DAYLIGHT
TZOFFSETFROM:+0200
TZOFFSETTO:+0300
TZNAME:IDT
DTSTART:20260327T000000
END:DAYLIGHT
BEGIN:STANDARD
TZOFFSETFROM:+0300
TZOFFSETTO:+0200
TZNAME:IST
DTSTART:20261024T230000
END:STANDARD
END:VTIMEZONE
BEGIN:VEVENT
DTSTART;VALUE=DATE:20251106
DTEND;VALUE=DATE:20251109
DTSTAMP:20260425T215234
CREATED:20251026T185132Z
LAST-MODIFIED:20251026T185132Z
UID:27242-1762387200-1762646399@5club.org.il
SUMMARY:המסע לאילת 6-8/11/25
DESCRIPTION:מסע מועדון החמש לאילת יתקיים בין התאריכים 6-8/11/25! \nכל הפרטים נשלחו בקבוצת הוואטסאפ של המועדון.
URL:https://5club.org.il/event/%d7%94%d7%9e%d7%a1%d7%a2-%d7%9c%d7%90%d7%99%d7%9c%d7%aa-6-8-11-25/
END:VEVENT
END:VCALENDAR