BEGIN:VCALENDAR
VERSION:2.0
PRODID:-//מועדון החמש - ECPv6.15.20//NONSGML v1.0//EN
CALSCALE:GREGORIAN
METHOD:PUBLISH
X-ORIGINAL-URL:https://5club.org.il
X-WR-CALDESC:Events for מועדון החמש
REFRESH-INTERVAL;VALUE=DURATION:PT1H
X-Robots-Tag:noindex
X-PUBLISHED-TTL:PT1H
BEGIN:VTIMEZONE
TZID:Asia/Jerusalem
BEGIN:DAYLIGHT
TZOFFSETFROM:+0200
TZOFFSETTO:+0300
TZNAME:IDT
DTSTART:20240329T000000
END:DAYLIGHT
BEGIN:STANDARD
TZOFFSETFROM:+0300
TZOFFSETTO:+0200
TZNAME:IST
DTSTART:20241026T230000
END:STANDARD
BEGIN:DAYLIGHT
TZOFFSETFROM:+0200
TZOFFSETTO:+0300
TZNAME:IDT
DTSTART:20250328T000000
END:DAYLIGHT
BEGIN:STANDARD
TZOFFSETFROM:+0300
TZOFFSETTO:+0200
TZNAME:IST
DTSTART:20251025T230000
END:STANDARD
BEGIN:DAYLIGHT
TZOFFSETFROM:+0200
TZOFFSETTO:+0300
TZNAME:IDT
DTSTART:20260327T000000
END:DAYLIGHT
BEGIN:STANDARD
TZOFFSETFROM:+0300
TZOFFSETTO:+0200
TZNAME:IST
DTSTART:20261024T230000
END:STANDARD
END:VTIMEZONE
BEGIN:VEVENT
DTSTART;TZID=Asia/Jerusalem:20250802T103000
DTEND;TZID=Asia/Jerusalem:20250802T113000
DTSTAMP:20260426T005853
CREATED:20250729T100409Z
LAST-MODIFIED:20250729T100409Z
UID:27228-1754130600-1754134200@5club.org.il
SUMMARY:השקת מרצדס 280SE משנת 1981 של חבר המועדון רוני שמואל במשמר השרון 02/08/25
DESCRIPTION:מועדון החמש מזמין להשקת מרצדס 280SE משנת 1981 \nהשקת מרצדס 280SE משנת 1981 של חבר המועדון רוני שמואל \nההשקה תתקיים ביום שבת\, 02/08/2025\, בשעה 10:30 במפגש משמר השרון\, במתחם אלונית משמר השרון (בוויז – "חניון צומת העוגן"). \nדברי ברכה – נחום קדמיאל \nהנחיה + סקירה היסטורית – רון אקרמן \nסיפור השיפוץ וחשיפת הרכב המושק – רוני שמואל \n  \nחברי מועדון החמש בעלי רכבי מרצדס\, מתבקשים להגיע עד השעה 10:00 לצורך סידור הרכבים.  \nלבירורים נא לפנות אל:  \nמתניה הלוי\, אחראי השקות\, בטל' 052-4472256 \nדודי שטרקר\, רכז מפגש משמר השרון\, בטל' 050-5232441 \n 
URL:https://5club.org.il/event/%d7%94%d7%a9%d7%a7%d7%aa-%d7%9e%d7%a8%d7%a6%d7%93%d7%a1-280se-%d7%9e%d7%a9%d7%a0%d7%aa-1981-%d7%a9%d7%9c-%d7%97%d7%91%d7%a8-%d7%94%d7%9e%d7%95%d7%a2%d7%93%d7%95%d7%9f-%d7%a8%d7%95%d7%a0%d7%99-%d7%a9/
END:VEVENT
END:VCALENDAR