BEGIN:VCALENDAR
VERSION:2.0
PRODID:-//מועדון החמש - ECPv6.15.20//NONSGML v1.0//EN
CALSCALE:GREGORIAN
METHOD:PUBLISH
X-WR-CALNAME:מועדון החמש
X-ORIGINAL-URL:https://5club.org.il
X-WR-CALDESC:Events for מועדון החמש
REFRESH-INTERVAL;VALUE=DURATION:PT1H
X-Robots-Tag:noindex
X-PUBLISHED-TTL:PT1H
BEGIN:VTIMEZONE
TZID:Asia/Jerusalem
BEGIN:DAYLIGHT
TZOFFSETFROM:+0200
TZOFFSETTO:+0300
TZNAME:IDT
DTSTART:20240329T000000
END:DAYLIGHT
BEGIN:STANDARD
TZOFFSETFROM:+0300
TZOFFSETTO:+0200
TZNAME:IST
DTSTART:20241026T230000
END:STANDARD
BEGIN:DAYLIGHT
TZOFFSETFROM:+0200
TZOFFSETTO:+0300
TZNAME:IDT
DTSTART:20250328T000000
END:DAYLIGHT
BEGIN:STANDARD
TZOFFSETFROM:+0300
TZOFFSETTO:+0200
TZNAME:IST
DTSTART:20251025T230000
END:STANDARD
BEGIN:DAYLIGHT
TZOFFSETFROM:+0200
TZOFFSETTO:+0300
TZNAME:IDT
DTSTART:20260327T000000
END:DAYLIGHT
BEGIN:STANDARD
TZOFFSETFROM:+0300
TZOFFSETTO:+0200
TZNAME:IST
DTSTART:20261024T230000
END:STANDARD
END:VTIMEZONE
BEGIN:VEVENT
DTSTART;VALUE=DATE:20251106
DTEND;VALUE=DATE:20251109
DTSTAMP:20260425T202201
CREATED:20251026T185132Z
LAST-MODIFIED:20251026T185132Z
UID:27242-1762387200-1762646399@5club.org.il
SUMMARY:המסע לאילת 6-8/11/25
DESCRIPTION:מסע מועדון החמש לאילת יתקיים בין התאריכים 6-8/11/25! \nכל הפרטים נשלחו בקבוצת הוואטסאפ של המועדון.
URL:https://5club.org.il/event/%d7%94%d7%9e%d7%a1%d7%a2-%d7%9c%d7%90%d7%99%d7%9c%d7%aa-6-8-11-25/
END:VEVENT
BEGIN:VEVENT
DTSTART;TZID=Asia/Jerusalem:20251121T143000
DTEND;TZID=Asia/Jerusalem:20251121T163000
DTSTAMP:20260425T202201
CREATED:20251117T112936Z
LAST-MODIFIED:20251117T112936Z
UID:27245-1763735400-1763742600@5club.org.il
SUMMARY:אירוע אוטוטו אספנות ביכין סנטר\, פתח תקווה 21/11/25
DESCRIPTION:בשישי הקרוב יתקיים מפגש אוטוטו אספנות ביכין סנטר\, פתח תקווה בשעה 14:30\nלאחר ההצלחה האדירה של שני האירועים הקודמים\, אנחנו שמחים ונרגשים להזמין אתכם לאירוע “אוטוטו אספנות” השלישי!🚗✨ \nהאירוע מיועד לחובבי רכב שבבעלותם רכבים שעדיין לא מוגדרים כרכבי אספנות – אבל כבר בדרך לשם (מתחת לשנת ייצור 2005).\nמתוך ההבנה וההערכה להשקעה הרבה שאתם משקיעים בשימור ובטיפוח רכבים מקומיים\, גם מול כל האתגרים הבירוקרטיים\, החלטנו להמשיך ולתמוך בקהילה הזו שמחייה את אהבת הרכב בישראל. \nאז אנחנו מזמינים אתכם בשמחה גדולה לאירוע “אוטוטו אספנות 3”\, שיתקיים ביום שישי\, ה-21 בנובמבר.\nבמהלך האירוע נחלק סטיקרים ייחודיים שיצרנו במיוחד לבעלי רכבים המשתתפים\, ונחגוג יחד את הדרך לעבר מעמד ה”קלסיקה” הנחשק. \nבנוסף\, תינתן הנחה מיוחדת למצטרפים חדשים למועדון במהלך האירוע. \nנשמח מאוד לראות אתכם – ואת הרכבים ש”עוד רגע” הופכים לרכבי אספנות! \nנתראה שם🙏🚘
URL:https://5club.org.il/event/%d7%90%d7%99%d7%a8%d7%95%d7%a2-%d7%90%d7%95%d7%98%d7%95%d7%98%d7%95-%d7%90%d7%a1%d7%a4%d7%a0%d7%95%d7%aa-%d7%91%d7%99%d7%9b%d7%99%d7%9f-%d7%a1%d7%a0%d7%98%d7%a8-%d7%a4%d7%aa%d7%97-%d7%aa%d7%a7%d7%95/
END:VEVENT
BEGIN:VEVENT
DTSTART;TZID=Asia/Jerusalem:20251128T153000
DTEND;TZID=Asia/Jerusalem:20251128T163000
DTSTAMP:20260425T202201
CREATED:20251117T113041Z
LAST-MODIFIED:20251117T113041Z
UID:27247-1764343800-1764347400@5club.org.il
SUMMARY:השקת שברולט בל-אייר קונברטיבל משנת 1957 של חבר המועדון דוד כרמל במפגש המרכזי 28/11/25
DESCRIPTION:מועדון החמש מזמין להשקת שברולט בל-אייר קונברטיבל משנת 1957 \nקלאסיקה אייקונית של שנות החמישים! \n  \nהשקת שברולט בל-אייר קונברטיבל משנת 1957 של חבר המועדון דוד כרמל \nההשקה תתקיים ביום שישי\, 28/11/2025\, בשעה 15:30 במפגש המרכזי\, יכין סנטר פתח תקווה. \n  \nהנחיית הטקס – רון אקרמן \nדברי ברכה – נחום קדמיאל \nסקירה היסטורית – קובי מילוא \nסיפור השיפוץ וחשיפת הרכב המושק – דוד כרמל \n  \nחברי מועדון החמש בעלי רכבי אספנות מתוצרת שברולט\, מתבקשים להגיע עד השעה 15:00 לצורך סידור הרכבים.  \n  \nלבירורים נא לפנות אל:  \nמתניה הלוי\, אחראי השקות\, בטל' 052-4472256 \nעמית זק"ש\, רכז המפגש המרכזי\, בטל' 052-8331333 \n 
URL:https://5club.org.il/event/%d7%94%d7%a9%d7%a7%d7%aa-%d7%a9%d7%91%d7%a8%d7%95%d7%9c%d7%98-%d7%91%d7%9c-%d7%90%d7%99%d7%99%d7%a8-%d7%a7%d7%95%d7%a0%d7%91%d7%a8%d7%98%d7%99%d7%91%d7%9c-%d7%9e%d7%a9%d7%a0%d7%aa-1957-%d7%a9%d7%9c/
END:VEVENT
END:VCALENDAR